BEGIN:VCALENDAR
VERSION:2.0
PRODID:-//VigoNature - ECPv6.15.20//NONSGML v1.0//EN
CALSCALE:GREGORIAN
METHOD:PUBLISH
X-ORIGINAL-URL:https://vigonature.es
X-WR-CALDESC:Eventos para VigoNature
REFRESH-INTERVAL;VALUE=DURATION:PT1H
X-Robots-Tag:noindex
X-PUBLISHED-TTL:PT1H
BEGIN:VTIMEZONE
TZID:Europe/Madrid
BEGIN:DAYLIGHT
TZOFFSETFROM:+0100
TZOFFSETTO:+0200
TZNAME:CEST
DTSTART:20250330T010000
END:DAYLIGHT
BEGIN:STANDARD
TZOFFSETFROM:+0200
TZOFFSETTO:+0100
TZNAME:CET
DTSTART:20251026T010000
END:STANDARD
BEGIN:DAYLIGHT
TZOFFSETFROM:+0100
TZOFFSETTO:+0200
TZNAME:CEST
DTSTART:20260329T010000
END:DAYLIGHT
BEGIN:STANDARD
TZOFFSETFROM:+0200
TZOFFSETTO:+0100
TZNAME:CET
DTSTART:20261025T010000
END:STANDARD
BEGIN:DAYLIGHT
TZOFFSETFROM:+0100
TZOFFSETTO:+0200
TZNAME:CEST
DTSTART:20270328T010000
END:DAYLIGHT
BEGIN:STANDARD
TZOFFSETFROM:+0200
TZOFFSETTO:+0100
TZNAME:CET
DTSTART:20271031T010000
END:STANDARD
END:VTIMEZONE
BEGIN:VEVENT
DTSTART;TZID=Europe/Madrid:20260510T090000
DTEND;TZID=Europe/Madrid:20260510T150000
DTSTAMP:20260421T193705
CREATED:20260417T101727Z
LAST-MODIFIED:20260420T130131Z
UID:7797-1778403600-1778425200@vigonature.es
SUMMARY:Miradoiros de Baiona (Alto da Groba) e de Oia (Alto de Corroubelo)
DESCRIPTION:Roteiros guiados por algúns dos espazos naturais máis destacados de Vigo e o sur de Pontevedra. Estas actividades combinan exercicio físico con interpretación da paisaxe\, da biodiversidade e do patrimonio natural. \nPercorridos con 165 prazas \nHorario: 9:00-15:00 Convocatoria: 8:30 
URL:https://vigonature.es/event/miradoiros-de-baiona-alto-da-groba-e-de-oia-alto-de-corroubelo/
CATEGORIES:Participación ambiental
ATTACH;FMTTYPE=image/png:https://vigonature.es/wp-content/uploads/2026/04/PLANTILLA-RRSS-VIGONATURE-1.png
END:VEVENT
END:VCALENDAR